BEGIN:VCALENDAR
VERSION:2.0
PRODID:-//Sakura Budo - ECPv6.8.3//NONSGML v1.0//EN
CALSCALE:GREGORIAN
METHOD:PUBLISH
X-ORIGINAL-URL:https://bart.creatingheroes.nl
X-WR-CALDESC:Evenementen voor Sakura Budo
REFRESH-INTERVAL;VALUE=DURATION:PT1H
X-Robots-Tag:noindex
X-PUBLISHED-TTL:PT1H
BEGIN:VTIMEZONE
TZID:UTC
BEGIN:STANDARD
TZOFFSETFROM:+0000
TZOFFSETTO:+0000
TZNAME:UTC
DTSTART:20230101T000000
END:STANDARD
END:VTIMEZONE
BEGIN:VEVENT
DTSTART;TZID=UTC:20231007T080000
DTEND;TZID=UTC:20231007T170000
DTSTAMP:20260420T094100
CREATED:20231006T075010Z
LAST-MODIFIED:20231006T075010Z
UID:723-1696665600-1696698000@bart.creatingheroes.nl
SUMMARY:Stage Markelo
DESCRIPTION:Komende zaterdag is er weer een stage in markelo gegeven door meester ……..
URL:https://bart.creatingheroes.nl/event/stage-markelo/
END:VEVENT
END:VCALENDAR